BEGIN:VCALENDAR
VERSION:2.0
PRODID:-//eventon.com NONSGML v1.0//EN
BEGIN:VEVENT
UID:69ebebc82bd97
DTSTAMP:20260425T011640
DTSTART:20221020T210900Z
DTEND:20221020T211700Z
TZID:Asia/Jerusalem
LOCATION:מנטה מרכז צלילה ישרוטל חוף אלמוג
SUMMARY:קורס צלילה כוכב שני
DESCRIPTION: קורס צלילה כוכב שני\,  קורס ההמשך לכוכב אחד\,  המזכה בתעודת הסמכה בינלאומית עד לעומק של 30 מטר*. משך הקורס: יומיים. לכל הפרטים על כוכב שני הקליקו פה &nbsp; &nbsp; &nbsp;\nhttps://divemanta.co.il/event/%d7%a7%d7%95%d7%a8%d7%a1-%d7%a6%d7%9c%d7%99%d7%9c%d7%94-%d7%9b%d7%95%d7%9b%d7%91-%d7%a9%d7%a0%d7%99-5/
URL:https://divemanta.co.il/event/%d7%a7%d7%95%d7%a8%d7%a1-%d7%a6%d7%9c%d7%99%d7%9c%d7%94-%d7%9b%d7%95%d7%9b%d7%91-%d7%a9%d7%a0%d7%99-5/
END:VEVENT
END:VCALENDAR