BEGIN:VCALENDAR
VERSION:2.0
PRODID:-//eventon.com NONSGML v1.0//EN
BEGIN:VEVENT
UID:69ebe6dab710a
DTSTAMP:20260425T005538
DTSTART:20201022T060000Z
DTEND:20201022T140000Z
TZID:Asia/Jerusalem
LOCATION:מנטה מרכז צלילה ישרוטל חוף אלמוג
SUMMARY:עזרה ראשונה
DESCRIPTION: קורס מגיש עזרה ראשונה\,  קורס קדם להצלה וקורס חובה להדרכה. משך הקורס: חצי יום\,  תיאוריה בלבד. בדר&#8221;כ יתקיים בצמוד או קרוב לקורס הצלה. לפרטים נוספים על התמחויות הקליקו פה! &nbsp; &nbsp; &nbsp; &nbsp;\nhttps://divemanta.co.il/event/%d7%a2%d7%96%d7%a8%d7%94-%d7%a8%d7%90%d7%a9%d7%95%d7%a0%d7%94/
URL:https://divemanta.co.il/event/%d7%a2%d7%96%d7%a8%d7%94-%d7%a8%d7%90%d7%a9%d7%95%d7%a0%d7%94/
END:VEVENT
END:VCALENDAR