BEGIN:VCALENDAR
VERSION:2.0
PRODID:-//eventon.com NONSGML v1.0//EN
BEGIN:VEVENT
UID:69ebe99ecadd9
DTSTAMP:20260425T010726
DTSTART:20230503T211800Z
DTEND:20230505T212000Z
TZID:Asia/Jerusalem
LOCATION:מנטה מרכז צלילה ישרוטל חוף אלמוג
SUMMARY:התמחות לילה
DESCRIPTION: כישורים לצלילה בלילה\,  התמחות התקפה להסמכת מאסטרדייבר. משך הקורס: יום אחד. לכל הפרטים על התמחויות בקרו פה &nbsp; &nbsp;\nhttps://divemanta.co.il/event/%d7%94%d7%aa%d7%9e%d7%97%d7%95%d7%aa-%d7%9c%d7%99%d7%9c%d7%94/
URL:https://divemanta.co.il/event/%d7%94%d7%aa%d7%9e%d7%97%d7%95%d7%aa-%d7%9c%d7%99%d7%9c%d7%94/
END:VEVENT
END:VCALENDAR