BEGIN:VCALENDAR
VERSION:2.0
PRODID:-//eventon.com NONSGML v1.0//EN
BEGIN:VEVENT
UID:69ecf2075d3c3
DTSTAMP:20260425T195535
DTSTART:20210724T210900Z
DTEND:20210724T211700Z
TZID:Asia/Jerusalem
LOCATION:מנטה מרכז צלילה ישרוטל חוף אלמוג
SUMMARY:קורס צלילה כוכב אחד | 1+2
DESCRIPTION: קורסי צלילה איכותיים להסמכה בינלאומית לעומקים של 18-30 מטרים. משך הקורס: כוכב 1+2 שבעה ימים | כוכב אחד חמישה ימים | צולל סקובה שלושה ימים. לכל הפרטים על קורסי צלילה בסיסיים הקליקו פה\nhttps://divemanta.co.il/event/%d7%a7%d7%95%d7%a8%d7%a1-%d7%a6%d7%9c%d7%99%d7%9c%d7%94-%d7%9b%d7%95%d7%9b%d7%91-%d7%90%d7%97%d7%93-12-3/var/ri-20.l-L1
URL:https://divemanta.co.il/event/%d7%a7%d7%95%d7%a8%d7%a1-%d7%a6%d7%9c%d7%99%d7%9c%d7%94-%d7%9b%d7%95%d7%9b%d7%91-%d7%90%d7%97%d7%93-12-3/var/ri-20.l-L1
END:VEVENT
END:VCALENDAR