BEGIN:VCALENDAR
VERSION:2.0
PRODID:-//eventon.com NONSGML v1.0//EN
BEGIN:VEVENT
UID:69ebe3521fa2d
DTSTAMP:20260425T004034
DTSTART:20201002T060000Z
DTEND:20201002T140000Z
TZID:Asia/Jerusalem
LOCATION:מנטה מרכז צלילה ישרוטל חוף אלמוג
SUMMARY:התמחות עומק
DESCRIPTION: העשרת ידע וניסיון בעומקי 18-42 מטרים\,  התמחות חובה להסמכת מאסטרדייבר. משך הקורס: יומיים. לכל הפרטים על התמחויות בקרו פה &nbsp; &nbsp;\nhttps://divemanta.co.il/event/deep-speciality/var/ri-4.l-L1
URL:https://divemanta.co.il/event/deep-speciality/var/ri-4.l-L1
END:VEVENT
END:VCALENDAR