BEGIN:VCALENDAR
VERSION:2.0
PRODID:-//eventon.com NONSGML v1.0//EN
BEGIN:VEVENT
UID:69ec2df3f33cc
DTSTAMP:20260425T055859
DTSTART:20220520T060000Z
DTEND:20220521T140000Z
TZID:Asia/Jerusalem
LOCATION:מנטה מרכז צלילה ישרוטל חוף אלמוג
SUMMARY:התמחות עומק
DESCRIPTION: העשרת ידע וניסיון בעומקי 18-42 מטרים\,  התמחות חובה להסמכת מאסטרדייבר. משך הקורס: יומיים. לכל הפרטים על התמחויות בקרו פה &nbsp; &nbsp;\nhttps://divemanta.co.il/event/deep-speciality/var/ri-10.l-L1
URL:https://divemanta.co.il/event/deep-speciality/var/ri-10.l-L1
END:VEVENT
END:VCALENDAR