BEGIN:VCALENDAR
VERSION:2.0
PRODID:-//eventon.com NONSGML v1.0//EN
BEGIN:VEVENT
UID:69ebe258b3144
DTSTAMP:20260425T003624
DTSTART:20191226T220900Z
DTEND:20191226T221700Z
TZID:Asia/Jerusalem
LOCATION:מנטה מרכז צלילה ישרוטל חוף אלמוג
SUMMARY:התמחות עומק
DESCRIPTION: העשרת ידע וניסיון בעומקי 18-42 מטרים\,  התמחות חובה להסמכת מאסטרדייבר. משך הקורס: יומיים. לכל הפרטים על התמחויות בקרו פה &nbsp; &nbsp;\nhttps://divemanta.co.il/event/deep-speciality/
URL:https://divemanta.co.il/event/deep-speciality/
END:VEVENT
END:VCALENDAR