BEGIN:VCALENDAR
VERSION:2.0
PRODID:-//eventon.com NONSGML v1.0//EN
BEGIN:VEVENT
UID:69ec1f481ccf1
DTSTAMP:20260425T045624
DTSTART:20200308T220900Z
DTEND:20200310T221700Z
TZID:Asia/Jerusalem
LOCATION:מנטה מרכז צלילה ישרוטל חוף אלמוג
SUMMARY:פורים במנטה
DESCRIPTION: חופשת פורים בבתי הספר מאפשרת זמן מעולה לבוא ולחגוג איתנו! במהלך החופשה בנוסף לקורסים הקבועים\,  יתכן ויפתחו גם קורסים בימים נוספים* &nbsp;\nhttps://divemanta.co.il/event/purim/
URL:https://divemanta.co.il/event/purim/
END:VEVENT
END:VCALENDAR